BEGIN:VCALENDAR
VERSION:2.0
PRODID:-//Unternehmergruppe Ostwestfalen-Lippe e. V. - ECPv6.15.20//NONSGML v1.0//EN
CALSCALE:GREGORIAN
METHOD:PUBLISH
X-WR-CALNAME:Unternehmergruppe Ostwestfalen-Lippe e. V.
X-ORIGINAL-URL:https://unternehmergruppe-owl.de
X-WR-CALDESC:Veranstaltungen für Unternehmergruppe Ostwestfalen-Lippe e. V.
REFRESH-INTERVAL;VALUE=DURATION:PT1H
X-Robots-Tag:noindex
X-PUBLISHED-TTL:PT1H
BEGIN:VTIMEZONE
TZID:Europe/Berlin
BEGIN:DAYLIGHT
TZOFFSETFROM:+0100
TZOFFSETTO:+0200
TZNAME:CEST
DTSTART:20230326T010000
END:DAYLIGHT
BEGIN:STANDARD
TZOFFSETFROM:+0200
TZOFFSETTO:+0100
TZNAME:CET
DTSTART:20231029T010000
END:STANDARD
BEGIN:DAYLIGHT
TZOFFSETFROM:+0100
TZOFFSETTO:+0200
TZNAME:CEST
DTSTART:20240331T010000
END:DAYLIGHT
BEGIN:STANDARD
TZOFFSETFROM:+0200
TZOFFSETTO:+0100
TZNAME:CET
DTSTART:20241027T010000
END:STANDARD
BEGIN:DAYLIGHT
TZOFFSETFROM:+0100
TZOFFSETTO:+0200
TZNAME:CEST
DTSTART:20250330T010000
END:DAYLIGHT
BEGIN:STANDARD
TZOFFSETFROM:+0200
TZOFFSETTO:+0100
TZNAME:CET
DTSTART:20251026T010000
END:STANDARD
END:VTIMEZONE
BEGIN:VEVENT
DTSTART;TZID=Europe/Berlin:20240907T103000
DTEND;TZID=Europe/Berlin:20240907T220000
DTSTAMP:20260423T093147
CREATED:20240507T103943Z
LAST-MODIFIED:20240728T102434Z
UID:736-1725705000-1725746400@unternehmergruppe-owl.de
SUMMARY:35. UGO GOLF CUP (Jubiläumsturnier 35 Jahre erstmalig auf einem Samstag)
DESCRIPTION:Golf- und Landclub Bad Salzuflen von 1956 e.V. \nTeilnahme: Mitglieder und deren Partner|in sowie geladene Gäste \nStartgeld: Wird auf Einladung/Ausschreibung bekanntgegeben. Nachkommende Partner und Gäste die nicht am Turnier teilnehmen zahlen nur das Menü + bestellte Getränke
URL:https://unternehmergruppe-owl.de/veranstaltung/35-ugo-golf-cup-jubilaeumsturnier-35-jahre-erstmalig-auf-einem-samstag/
LOCATION:Golf- und Landclub Bad Salzuflen von 1956 e.V.\, Am Schwaghof 4\, Bad Salzuflen\, Nordrhein-Westfalen\, 32108\, Deutschland
CATEGORIES:Sportliche Events
ATTACH;FMTTYPE=image/jpeg:https://unternehmergruppe-owl.de/wp-content/uploads/2023/03/IMG_2089.jpg
END:VEVENT
END:VCALENDAR