BEGIN:VCALENDAR
VERSION:2.0
PRODID:-//Unternehmergruppe Ostwestfalen-Lippe e. V. - ECPv6.15.20//NONSGML v1.0//EN
CALSCALE:GREGORIAN
METHOD:PUBLISH
X-ORIGINAL-URL:https://unternehmergruppe-owl.de
X-WR-CALDESC:Veranstaltungen für Unternehmergruppe Ostwestfalen-Lippe e. V.
REFRESH-INTERVAL;VALUE=DURATION:PT1H
X-Robots-Tag:noindex
X-PUBLISHED-TTL:PT1H
BEGIN:VTIMEZONE
TZID:Europe/Berlin
BEGIN:DAYLIGHT
TZOFFSETFROM:+0100
TZOFFSETTO:+0200
TZNAME:CEST
DTSTART:20250330T010000
END:DAYLIGHT
BEGIN:STANDARD
TZOFFSETFROM:+0200
TZOFFSETTO:+0100
TZNAME:CET
DTSTART:20251026T010000
END:STANDARD
BEGIN:DAYLIGHT
TZOFFSETFROM:+0100
TZOFFSETTO:+0200
TZNAME:CEST
DTSTART:20260329T010000
END:DAYLIGHT
BEGIN:STANDARD
TZOFFSETFROM:+0200
TZOFFSETTO:+0100
TZNAME:CET
DTSTART:20261025T010000
END:STANDARD
BEGIN:DAYLIGHT
TZOFFSETFROM:+0100
TZOFFSETTO:+0200
TZNAME:CEST
DTSTART:20270328T010000
END:DAYLIGHT
BEGIN:STANDARD
TZOFFSETFROM:+0200
TZOFFSETTO:+0100
TZNAME:CET
DTSTART:20271031T010000
END:STANDARD
END:VTIMEZONE
BEGIN:VEVENT
DTSTART;TZID=Europe/Berlin:20260122T183000
DTEND;TZID=Europe/Berlin:20260122T210000
DTSTAMP:20260421T171518
CREATED:20250420T181145Z
LAST-MODIFIED:20251126T143629Z
UID:1016-1769106600-1769115600@unternehmergruppe-owl.de
SUMMARY:Vortrag: Sinnorientierte Führung | Leadership für Generation Y und Z neu denken
DESCRIPTION:Referent: Prof. Dr. Andreas König\, Honorar-Prof. für Digital-Leadership AKAD-Hochschule Stuttgart und Leadership an der Züricher Hochschule für Angewandte Wissenschaft (ZHAW) – Institut für angewandte Medienwissenschaften (IAM) und Buch-Autor \nLocation: Denkwerk\, Leopoldstraße 2-8\, 32051 Herford. \nTeilnehmer: Mitglieder und Partner|in\, falls Plätze frei geladene Gäste willkommen. (Eintritt frei).
URL:https://unternehmergruppe-owl.de/veranstaltung/vortrag-leaderhip-fuer-generation-y-und-z-neu-denken/
CATEGORIES:Vorträge
ATTACH;FMTTYPE=image/jpeg:https://unternehmergruppe-owl.de/wp-content/uploads/2025/04/8F241989-ECC8-41B9-9C60-A5FB2FBD07DD-scaled.jpeg
END:VEVENT
END:VCALENDAR