BEGIN:VCALENDAR
VERSION:2.0
PRODID:-//Unternehmergruppe Ostwestfalen-Lippe e. V. - ECPv6.15.20//NONSGML v1.0//EN
CALSCALE:GREGORIAN
METHOD:PUBLISH
X-ORIGINAL-URL:https://unternehmergruppe-owl.de
X-WR-CALDESC:Veranstaltungen für Unternehmergruppe Ostwestfalen-Lippe e. V.
REFRESH-INTERVAL;VALUE=DURATION:PT1H
X-Robots-Tag:noindex
X-PUBLISHED-TTL:PT1H
BEGIN:VTIMEZONE
TZID:Europe/Berlin
BEGIN:DAYLIGHT
TZOFFSETFROM:+0100
TZOFFSETTO:+0200
TZNAME:CEST
DTSTART:20240331T010000
END:DAYLIGHT
BEGIN:STANDARD
TZOFFSETFROM:+0200
TZOFFSETTO:+0100
TZNAME:CET
DTSTART:20241027T010000
END:STANDARD
BEGIN:DAYLIGHT
TZOFFSETFROM:+0100
TZOFFSETTO:+0200
TZNAME:CEST
DTSTART:20250330T010000
END:DAYLIGHT
BEGIN:STANDARD
TZOFFSETFROM:+0200
TZOFFSETTO:+0100
TZNAME:CET
DTSTART:20251026T010000
END:STANDARD
BEGIN:DAYLIGHT
TZOFFSETFROM:+0100
TZOFFSETTO:+0200
TZNAME:CEST
DTSTART:20260329T010000
END:DAYLIGHT
BEGIN:STANDARD
TZOFFSETFROM:+0200
TZOFFSETTO:+0100
TZNAME:CET
DTSTART:20261025T010000
END:STANDARD
END:VTIMEZONE
BEGIN:VEVENT
DTSTART;TZID=Europe/Berlin:20251104T183000
DTEND;TZID=Europe/Berlin:20251104T210000
DTSTAMP:20260422T165323
CREATED:20250420T100136Z
LAST-MODIFIED:20250711T114452Z
UID:1013-1762281000-1762290000@unternehmergruppe-owl.de
SUMMARY:Vortrag: China - die geopolitischen Konsequenzen für den Mittelstand
DESCRIPTION:Referent: Prof. Dr. Eberhard Sandschneider\, Experte für China und internationale Politikwissenschaften\, Freie Universität Berlin \nKooperation mit der Deutsch-Chinesischen-Gesellschaft Herford (DCGH) \nLocation: Denkwerk\, Leopoldstraße 2-8\, 32051 Herford \nTeilnahme Mitglieder der UGO und DCGH und Partner|in sowie geladene Gäste (Einritt frei)
URL:https://unternehmergruppe-owl.de/veranstaltung/vortrag-china-die-geopolitischen-konsequenzen-fuer-den-mittelstand/
CATEGORIES:Vorträge
ATTACH;FMTTYPE=image/jpeg:https://unternehmergruppe-owl.de/wp-content/uploads/2025/04/1261E72C-1A12-422A-99BB-4D49A44AB7A1-e1752234270842.jpeg
END:VEVENT
END:VCALENDAR