BEGIN:VCALENDAR
VERSION:2.0
PRODID:-//Unternehmergruppe Ostwestfalen-Lippe e. V. - ECPv6.15.20//NONSGML v1.0//EN
CALSCALE:GREGORIAN
METHOD:PUBLISH
X-WR-CALNAME:Unternehmergruppe Ostwestfalen-Lippe e. V.
X-ORIGINAL-URL:https://unternehmergruppe-owl.de
X-WR-CALDESC:Veranstaltungen für Unternehmergruppe Ostwestfalen-Lippe e. V.
REFRESH-INTERVAL;VALUE=DURATION:PT1H
X-Robots-Tag:noindex
X-PUBLISHED-TTL:PT1H
BEGIN:VTIMEZONE
TZID:Europe/Berlin
BEGIN:DAYLIGHT
TZOFFSETFROM:+0100
TZOFFSETTO:+0200
TZNAME:CEST
DTSTART:20240331T010000
END:DAYLIGHT
BEGIN:STANDARD
TZOFFSETFROM:+0200
TZOFFSETTO:+0100
TZNAME:CET
DTSTART:20241027T010000
END:STANDARD
BEGIN:DAYLIGHT
TZOFFSETFROM:+0100
TZOFFSETTO:+0200
TZNAME:CEST
DTSTART:20250330T010000
END:DAYLIGHT
BEGIN:STANDARD
TZOFFSETFROM:+0200
TZOFFSETTO:+0100
TZNAME:CET
DTSTART:20251026T010000
END:STANDARD
BEGIN:DAYLIGHT
TZOFFSETFROM:+0100
TZOFFSETTO:+0200
TZNAME:CEST
DTSTART:20260329T010000
END:DAYLIGHT
BEGIN:STANDARD
TZOFFSETFROM:+0200
TZOFFSETTO:+0100
TZNAME:CET
DTSTART:20261025T010000
END:STANDARD
END:VTIMEZONE
BEGIN:VEVENT
DTSTART;TZID=Europe/Berlin:20251009T140000
DTEND;TZID=Europe/Berlin:20251009T163000
DTSTAMP:20260422T181452
CREATED:20250420T081911Z
LAST-MODIFIED:20250804T211720Z
UID:1000-1760018400-1760027400@unternehmergruppe-owl.de
SUMMARY:Einladung sc electronic service GmbH\, Herford
DESCRIPTION:Seit 2018 gehört das Unternehmen zur Hörmann KG. Hochinteressante Unternehmenspräsentation und Besichtigung der Entwicklung\, innovativen Fertigung von elektronischen Bauteilen und Leiterplatten. Mehr Info Klick www.sc-electronic.de\n\nAnschliessendes Networking bei Imbiss und Getränken. \nLocation: sc electronic service GmbH\, Planckstraße 10\, 32052 Herford \nTeilnahme: max. 20 Mitglieder (Windhundverfahren) falls Plätze frei sind auch Partner|in und geladene Gäste willkommen.
URL:https://unternehmergruppe-owl.de/veranstaltung/einladung-sc-electronic-service-gmbh-herford/
CATEGORIES:Unternehmensbesichtigungen
END:VEVENT
END:VCALENDAR