BEGIN:VCALENDAR
VERSION:2.0
PRODID:-//Unternehmergruppe Ostwestfalen-Lippe e. V. - ECPv6.15.20//NONSGML v1.0//EN
CALSCALE:GREGORIAN
METHOD:PUBLISH
X-ORIGINAL-URL:https://unternehmergruppe-owl.de
X-WR-CALDESC:Veranstaltungen für Unternehmergruppe Ostwestfalen-Lippe e. V.
REFRESH-INTERVAL;VALUE=DURATION:PT1H
X-Robots-Tag:noindex
X-PUBLISHED-TTL:PT1H
BEGIN:VTIMEZONE
TZID:Europe/Berlin
BEGIN:DAYLIGHT
TZOFFSETFROM:+0100
TZOFFSETTO:+0200
TZNAME:CEST
DTSTART:20240331T010000
END:DAYLIGHT
BEGIN:STANDARD
TZOFFSETFROM:+0200
TZOFFSETTO:+0100
TZNAME:CET
DTSTART:20241027T010000
END:STANDARD
BEGIN:DAYLIGHT
TZOFFSETFROM:+0100
TZOFFSETTO:+0200
TZNAME:CEST
DTSTART:20250330T010000
END:DAYLIGHT
BEGIN:STANDARD
TZOFFSETFROM:+0200
TZOFFSETTO:+0100
TZNAME:CET
DTSTART:20251026T010000
END:STANDARD
BEGIN:DAYLIGHT
TZOFFSETFROM:+0100
TZOFFSETTO:+0200
TZNAME:CEST
DTSTART:20260329T010000
END:DAYLIGHT
BEGIN:STANDARD
TZOFFSETFROM:+0200
TZOFFSETTO:+0100
TZNAME:CET
DTSTART:20261025T010000
END:STANDARD
END:VTIMEZONE
BEGIN:VEVENT
DTSTART;TZID=Europe/Berlin:20250615T093000
DTEND;TZID=Europe/Berlin:20250623T203000
DTSTAMP:20260422T235646
CREATED:20250419T103952Z
LAST-MODIFIED:20250510T093031Z
UID:918-1749979800-1750710600@unternehmergruppe-owl.de
SUMMARY:32. Terra Wortmann Open Halle-Westfalen
DESCRIPTION:Exklusive Einladung zum ATP-Tennisturnier. Reservierung VIP-Tickets und weitere Event-Details werden zeitnahe vor dem Turnier in der persönlichen Einladung bekanntgegeben. Teilnahme: UGO Mitglieder und Partner/in. (Windhundverfahren) und Gäste falls Plätze frei. Mehr Info zum Turnier klick www.terraortmann-open.de \nHinweis: Exklusives Kontingent VIP-Tickets bereits vergriffen. Nur noch Tickets für Montag und Dienstag.
URL:https://unternehmergruppe-owl.de/veranstaltung/32-terra-wortmann-open-halle-westfalen/
CATEGORIES:Sportliche Events
ATTACH;FMTTYPE=image/jpeg:https://unternehmergruppe-owl.de/wp-content/uploads/2024/05/0CB1AA25-6331-48C6-8C25-53F9B4AB97F0.jpeg
END:VEVENT
END:VCALENDAR